BEGIN:VCALENDAR
VERSION:2.0
PRODID:-//Soul Vibes Association - ECPv6.15.20//NONSGML v1.0//EN
CALSCALE:GREGORIAN
METHOD:PUBLISH
X-WR-CALNAME:Soul Vibes Association
X-ORIGINAL-URL:https://soulvibesassociation.org
X-WR-CALDESC:Eventos para Soul Vibes Association
REFRESH-INTERVAL;VALUE=DURATION:PT1H
X-Robots-Tag:noindex
X-PUBLISHED-TTL:PT1H
BEGIN:VTIMEZONE
TZID:UTC
BEGIN:STANDARD
TZOFFSETFROM:+0000
TZOFFSETTO:+0000
TZNAME:UTC
DTSTART:20240101T000000
END:STANDARD
END:VTIMEZONE
BEGIN:VEVENT
DTSTART;TZID=UTC:20251127T190000
DTEND;TZID=UTC:20251127T210000
DTSTAMP:20260420T075253
CREATED:20170425T101846Z
LAST-MODIFIED:20251020T140530Z
UID:780-1764270000-1764277200@soulvibesassociation.org
SUMMARY:✨ Presentación de Soul Vibes Association ✨
DESCRIPTION:Te invitamos a descubrir Soul Vibes Association\, un asociación sin ánimo de lucro que trabaja por el apoyo a la España Rural y los viajes de autenticidad en casas familiares. \nDisfruta de una tertulia inspiradora\, la presentación oficial de nuestra web a cargo de su fundadora Rocío Merino\, además de una jornada llena de música\, buena energía y gastronomía. \n¡Ven a vivir una experiencia única donde el alma y las buenas vibras se encuentran! 💫
URL:https://soulvibesassociation.org/evento/presentacion-asociacion-soul-vibes/
LOCATION:Casa de Leon\, Calle del Pez\, 6\, Madrid\, Madrid\, Spain
CATEGORIES:Visitas
ATTACH;FMTTYPE=image/png:https://soulvibesassociation.org/wp-content/uploads/2025/08/logo-soul-vibes.png
ORGANIZER;CN="Soul Vibes Association":MAILTO:soulvibesassociation@gmail.com
END:VEVENT
END:VCALENDAR